Workbook

Sheet Annexe 1
C2: 2018 | G2: 2019 | K2: 2020 | O2: 2021 | S2: 2022 | W2: 2023 | AA2: 2024 | AE2: 2025
A3: BRANCHES REGROUPEES | B3: Pondération | C3: T1 | D3: T2 | E3: T3 | F3: T4 | G3: T1 | H3: T2 | I3: T3 | J3: T4 | K3: T1 | L3: T2 | M3: T3 | N3: T4 | O3: T1 | P3: T2 | Q3: T3 | R3: T4 | S3: T1 | T3: T2 | U3: T3 | V3: T4 | W3: T1 | X3: T2 | Y3: T3 | Z3: T4 | AA3: T1 | AB3: T2 | AC3: T3 | AD3: T4 | AE3: T1
A4: TRANSPORTS TERRESTRES (49) | B4: 992.79209 | C4: 33.555522 | D4: 46.375672 | E4: 41.552513 | F4: 30.57974 | G4: 23.713445 | H4: 138.90577 | I4: 107.0768 | J4: 98.653552 | K4: 97.947092 | L4: 117.33955 | M4: 36.71197 | N4: 128.20971 | O4: 34.766023 | P4: 77.675801 | Q4: 23.817351 | R4: 20.252747 | S4: 21.06886 | T4: 24.587732 | U4: 26.901951 | V4: 26.767353 | W4: 18.818758 | X4: ='[1]HISTORIQUE DES INDICES ELE'!$Z$15 -> 24.587732 | Y4: ='[1]HISTORIQUE DES INDICES ELE'!$AA$15 -> 17.530083 | Z4: ='[2]HISTORIQUE DES INDICES ELE'!$AB$15 -> 22.56606 | AA4: ='[3]HISTORIQUE DES INDICES ELE'!$AC$15 -> 13.946906 | AB4: ='[4]HISTORIQUE DES INDICES ELE'!$AD$15 -> 8.6180127 | AC4: ='[5]INDICES BRANCHES SOUS BRANCHES'!$AH$7 -> 11.142025 | AD4: ='[6]HISTORIQUE DES INDICES ELE'!$AF$15 -> 14.917878 | AE4: =[7]PUBLICATION!$AF$8 -> 9.2630354
A5: TRANSPORTS PAR EAU (50) | B5: 105.45118 | C5: 70.546693 | D5: 82.017214 | E5: 136.69176 | F5: 118.74394 | G5: 126.59862 | H5: 128.88065 | I5: 110.76235 | J5: 133.56272 | K5: 137.82314 | L5: 84.360043 | M5: 113.454 | N5: 132.28828 | O5: 133.79369 | P5: 160.13752 | Q5: 133.95367 | R5: 154.7179 | S5: 140.8495 | T5: 161.24042 | U5: 202.62859 | V5: 214.15442 | W5: 181.10262 | X5: =[8]PUBLICATION!$Y$9 -> 182.88203 | Y5: ='[1]HISTORIQUE DES INDICES ELE'!$AA$19 -> 155.56665 | Z5: ='[2]HISTORIQUE DES INDICES ELE'!$AB$19 -> 209.94343 | AA5: ='[3]HISTORIQUE DES INDICES ELE'!$AC$19 -> 156.18877 | AB5: ='[4]HISTORIQUE DES INDICES ELE'!$AD$19 -> 118.8224 | AC5: ='[5]INDICES BRANCHES SOUS BRANCHES'!$AH$10 -> 181.84408 | AD5: ='[6]HISTORIQUE DES INDICES ELE'!$AF$19 -> 110.79474 | AE5: =[7]PUBLICATION!$AF$9 -> 109.74052
A6: ENTREPOSAGE ET ACTIVITÉS DES AUXILIAIRES DE TRANSPORT (52) | B6: 204.62951 | C6: 95.104719 | D6: 111.11202 | E6: 93.905056 | F6: 99.878207 | G6: 83.056757 | H6: 91.765575 | I6: 95.00144 | J6: 98.519864 | K6: 102.45134 | L6: 83.517773 | M6: 83.295817 | N6: 92.392779 | O6: 97.787449 | P6: 96.062348 | Q6: 72.6044 | R6: 97.286271 | S6: 98.964804 | T6: 110.18393 | U6: 99.187075 | V6: 104.14073 | W6: 141.18336 | X6: ='[1]HISTORIQUE DES INDICES ELE'!$Z$30 -> 110.18393 | Y6: ='[1]HISTORIQUE DES INDICES ELE'!$AA$30 -> 161.79463 | Z6: ='[2]HISTORIQUE DES INDICES ELE'!$AB$30 -> 188.60163 | AA6: ='[3]HISTORIQUE DES INDICES ELE'!$AC$30 -> 118.85424 | AB6: ='[4]HISTORIQUE DES INDICES ELE'!$AD$30 -> 155.2198 | AC6: ='[5]INDICES BRANCHES SOUS BRANCHES'!$AH$13 -> 249.42734 | AD6: ='[6]HISTORIQUE DES INDICES ELE'!$AF$30 -> 269.14093 | AE6: =[7]PUBLICATION!$AF$10 -> 307.4445
A7: TRANSPORT ET ENTREPOSAGE (49 à 53) | B7: =+SUM(B4:B6) -> 1302.8728 | C7: =+SUMPRODUCT($B$4:$B$6,C4:C6)/(SUM($B$4:$B$6)) -> 46.216424 | D7: =+SUMPRODUCT($B$4:$B$6,D4:D6)/(SUM($B$4:$B$6)) -> 59.427913 | E7: =+SUMPRODUCT($B$4:$B$6,E4:E6)/(SUM($B$4:$B$6)) -> 57.475342 | F7: =+SUMPRODUCT($B$4:$B$6,F4:F6)/(SUM($B$4:$B$6)) -> 48.599558 | G7: =+SUMPRODUCT($B$4:$B$6,G4:G6)/(SUM($B$4:$B$6)) -> 41.361182 | H7: =+SUMPRODUCT($B$4:$B$6,H4:H6)/(SUM($B$4:$B$6)) -> 130.69051 | I7: =+SUMPRODUCT($B$4:$B$6,I4:I6)/(SUM($B$4:$B$6)) -> 105.47854 | J7: =+SUMPRODUCT($B$4:$B$6,J4:J6)/(SUM($B$4:$B$6)) -> 101.45801 | ... AE7: =+SUMPRODUCT($B$4:$B$6,AE4:AE6)/(SUM($B$4:$B$6)) -> 64.227878
A8: HEBERGEMENT (55) | B8: 62.53696 | C8: 92.572688 | D8: 92.872572 | E8: 97.11817 | F8: 108.37586 | G8: 102.03002 | H8: 103.75055 | I8: 100.94728 | J8: 127.00749 | K8: 97.245686 | L8: 22.521593 | M8: 30.527847 | N8: 91.775521 | O8: 100.58211 | P8: 102.70797 | Q8: 138.44763 | R8: 186.16949 | S8: 148.08742 | T8: 170.77566 | U8: 253.59714 | V8: 283.85322 | W8: 238.91621 | X8: ='[1]HISTORIQUE DES INDICES ELE'!$Z$40 -> 170.77566 | Y8: ='[1]HISTORIQUE DES INDICES ELE'!$AA$40 -> 347.41983 | Z8: ='[2]HISTORIQUE DES INDICES ELE'!$AB$40 -> 418.90401 | AA8: ='[3]HISTORIQUE DES INDICES ELE'!$AC$40 -> 252.31595 | AB8: ='[4]HISTORIQUE DES INDICES ELE'!$AD$40 -> 380.87444 | AC8: ='[5]INDICES BRANCHES SOUS BRANCHES'!$AH$14 -> 370.70118 | AD8: ='[6]HISTORIQUE DES INDICES ELE'!$AF$40 -> 447.15753 | AE8: =[7]PUBLICATION!$AF$11 -> 327.00488
A9: RESTAURATION ET DEBITS DE BOISSON (56) | B9: 72.274402 | C9: 83.472251 | D9: 96.874291 | E9: 98.639481 | F9: 103.52301 | G9: 109.04227 | H9: 103.5143 | I9: 117.80406 | J9: 136.11805 | K9: 98.734082 | L9: 52.590015 | M9: 64.792064 | N9: 124.71415 | O9: 117.16154 | P9: 142.0124 | Q9: 154.07185 | R9: 212.75239 | S9: 182.95164 | T9: 187.46133 | U9: 258.97143 | V9: 243.51477 | W9: 224.52489 | X9: ='[1]HISTORIQUE DES INDICES ELE'!$Z$53 -> 187.46133 | Y9: ='[1]HISTORIQUE DES INDICES ELE'!$AA$53 -> 320.4461 | Z9: ='[2]HISTORIQUE DES INDICES ELE'!$AB$53 -> 471.06871 | AA9: ='[3]HISTORIQUE DES INDICES ELE'!$AC$53 -> 273.00055 | AB9: ='[4]HISTORIQUE DES INDICES ELE'!$AD$53 -> 260.92066 | AC9: ='[5]INDICES BRANCHES SOUS BRANCHES'!$AH$18 -> 415.42129 | AD9: ='[6]HISTORIQUE DES INDICES ELE'!$AF$53 -> 492.31655 | AE9: =[7]PUBLICATION!$AF$12 -> 323.9074
A10: HÉBERGEMENT ET RESTAURATION (55 &56) | B10: =+SUM(B8:B9) -> 134.81136 | C10: =+SUMPRODUCT($B$8:$B$9,C8:C9)/(SUM($B$8:$B$9)) -> 87.693807 | D10: =+SUMPRODUCT($B$8:$B$9,D8:D9)/(SUM($B$8:$B$9)) -> 95.017954 | E10: =+SUMPRODUCT($B$8:$B$9,E8:E9)/(SUM($B$8:$B$9)) -> 97.933768 | F10: =+SUMPRODUCT($B$8:$B$9,F8:F9)/(SUM($B$8:$B$9)) -> 105.77417 | G10: =+SUMPRODUCT($B$8:$B$9,G8:G9)/(SUM($B$8:$B$9)) -> 105.78939 | H10: =+SUMPRODUCT($B$8:$B$9,H8:H9)/(SUM($B$8:$B$9)) -> 103.6239 | I10: =+SUMPRODUCT($B$8:$B$9,I8:I9)/(SUM($B$8:$B$9)) -> 109.98445 | J10: =+SUMPRODUCT($B$8:$B$9,J8:J9)/(SUM($B$8:$B$9)) -> 131.89179 | ... AE10: =+SUMPRODUCT($B$8:$B$9,AE8:AE9)/(SUM($B$8:$B$9)) -> 325.34428
A11: PROGRAMMATION TELEVISUELLE ; RADIODIFFUSION (60) | B11: 57.141231 | C11: 64.832331 | D11: 100.06911 | E11: 104.36667 | F11: 132.38444 | G11: 77.555272 | H11: 95.207514 | I11: 135.44095 | J11: 205.58012 | K11: 207.77625 | L11: 237.33921 | M11: 233.4652 | N11: 328.42867 | O11: 62.314411 | P11: 120.26258 | Q11: 105.42927 | R11: 99.205413 | S11: 94.078519 | T11: 106.44532 | U11: 110.95764 | V11: 117.82754 | W11: 92.637939 | X11: ='[1]HISTORIQUE DES INDICES ELE'!$Z$57 -> 106.44532 | Y11: ='[1]HISTORIQUE DES INDICES ELE'!$AA$57 -> 106.78705 | Z11: ='[2]HISTORIQUE DES INDICES ELE'!$AB$57 -> 90.922047 | AA11: ='[3]HISTORIQUE DES INDICES ELE'!$AC$57 -> 68.333331 | AB11: ='[4]HISTORIQUE DES INDICES ELE'!$AD$57 -> 84.317599 | AC11: ='[5]INDICES BRANCHES SOUS BRANCHES'!$AH$20 -> 74.223863 | AD11: ='[6]HISTORIQUE DES INDICES ELE'!$AF$57 -> 137.42401 | AE11: =[7]PUBLICATION!$AF$13 -> 136.76555
A12: TÉLÉCOMMUNICATIONS (61) | B12: 2469.5772 | C12: 92.212693 | D12: 98.263469 | E12: 109.9879 | F12: 101.79258 | G12: 112.48024 | H12: 115.74103 | I12: 116.07964 | J12: 90.950244 | K12: 111.96923 | L12: 99.030696 | M12: 99.82775 | N12: 108.09994 | O12: 209.50327 | P12: 103.49659 | Q12: 170.47886 | R12: 183.36596 | S12: 154.93181 | T12: 244.64491 | U12: 241.37036 | V12: 193.61162 | W12: 233.4799 | X12: ='[1]HISTORIQUE DES INDICES ELE'!$Z$64 -> 244.64491 | Y12: ='[1]HISTORIQUE DES INDICES ELE'!$AA$64 -> 241.33336 | Z12: ='[2]HISTORIQUE DES INDICES ELE'!$AB$64 -> 247.14614 | AA12: ='[3]HISTORIQUE DES INDICES ELE'!$AC$64 -> 332.71188 | AB12: ='[4]HISTORIQUE DES INDICES ELE'!$AD$64 -> 317.2629 | AC12: ='[5]INDICES BRANCHES SOUS BRANCHES'!$AH$22 -> 340.40139 | AD12: ='[6]HISTORIQUE DES INDICES ELE'!$AF$64 -> 222.19332 | AE12: =[7]PUBLICATION!$AF$14 -> 288.32127
A13: ACTIVITÉS INFORMATIQUES : CONSEIL, PROGRAMMATION (62) | B13: 124.70107 | C13: 136.2434 | D13: 74.648642 | E13: 102.8245 | F13: 112.76686 | G13: 117.68103 | H13: 123.72207 | I13: 169.37309 | J13: 152.93446 | K13: 148.27904 | L13: 63.007109 | M13: 72.874716 | N13: 136.76652 | O13: 119.80025 | P13: 71.43364 | Q13: 44.809114 | R13: 29.143366 | S13: 30.987706 | T13: 39.639845 | U13: 39.000724 | V13: 23.209551 | W13: 20.493393 | X13: ='[1]HISTORIQUE DES INDICES ELE'!$Z$69 -> 39.639845 | Y13: =[6]PUBLICATION!$Z$15 -> 0.52957434 | Z13: =[6]PUBLICATION!$AA$15 -> 0.52852511 | AA13: =[6]PUBLICATION!$AB$15 -> 0.80979491 | AB13: =[6]PUBLICATION!$AC$15 -> 0.70845139 | AC13: =[6]PUBLICATION!$AD$15 -> 1.0242974 | AD13: ='[6]HISTORIQUE DES INDICES ELE'!$AF$69 -> 2.0995014 | AE13: =[7]PUBLICATION!$AF$15 -> 1.150145
A14: INFORMATION ET COMMUNICATION (58 à 63) | B14: =+SUM(B11:B13) -> 2651.4195 | C14: =+SUMPRODUCT($B$11:$B$13,C11:C13)/(SUM($B$11:$B$13)) -> 93.693458 | D14: =+SUMPRODUCT($B$11:$B$13,D11:D13)/(SUM($B$11:$B$13)) -> 97.191735 | E14: =+SUMPRODUCT($B$11:$B$13,E11:E13)/(SUM($B$11:$B$13)) -> 109.52985 | F14: =+SUMPRODUCT($B$11:$B$13,F11:F13)/(SUM($B$11:$B$13)) -> 102.96801 | G14: =+SUMPRODUCT($B$11:$B$13,G11:G13)/(SUM($B$11:$B$13)) -> 111.97217 | H14: =+SUMPRODUCT($B$11:$B$13,H11:H13)/(SUM($B$11:$B$13)) -> 115.67387 | I14: =+SUMPRODUCT($B$11:$B$13,I11:I13)/(SUM($B$11:$B$13)) -> 119.00339 | J14: =+SUMPRODUCT($B$11:$B$13,J11:J13)/(SUM($B$11:$B$13)) -> 96.335884 | ... AE14: =+SUMPRODUCT($B$11:$B$13,AE11:AE13)/(SUM($B$11:$B$13)) -> 271.54889
A15: ACTIVITES FINANCIERES (64) | B15: 4350.9442 | C15: 69.298262 | D15: 95.495451 | E15: 105.32203 | F15: 127.19255 | G15: 81.958189 | H15: 96.634315 | I15: 98.257336 | J15: 96.811547 | K15: 86.944531 | L15: 139.37105 | M15: 140.74561 | N15: 156.58103 | O15: 96.12477 | P15: 109.07534 | Q15: 189.63389 | R15: 210.35278 | S15: 123.8242 | T15: 154.44845 | U15: 146.24887 | V15: 211.78868 | W15: 140.1949 | X15: =[8]PUBLICATION!$Y$39 -> 195.71566 | Y15: ='[1]HISTORIQUE DES INDICES ELE'!$AA$86 -> 228.09534 | Z15: ='[2]HISTORIQUE DES INDICES ELE'!$AB$86 -> 237.13479 | AA15: ='[3]HISTORIQUE DES INDICES ELE'!$AC$86 -> 194.18841 | AB15: ='[4]HISTORIQUE DES INDICES ELE'!$AD$86 -> 259.0662 | AC15: ='[5]INDICES BRANCHES SOUS BRANCHES'!$AH$28 -> 271.90259 | AD15: ='[6]HISTORIQUE DES INDICES ELE'!$AF$86 -> 332.59921 | AE15: =[7]PUBLICATION!$AF$16 -> 194.08903
A16: ASSURANCE (65) | B16: 535.31175 | C16: 116.53554 | D16: 88.5558 | E16: 88.862649 | F16: 105.00907 | G16: 135.4142 | H16: 107.64074 | I16: 115.16108 | J16: 131.77426 | K16: 133.74536 | L16: 85.644071 | M16: 85.707861 | N16: 128.56667 | O16: 151.83078 | P16: 131.79776 | Q16: 126.71928 | R16: 146.41364 | S16: 163.96387 | T16: 165.33531 | U16: 136.49532 | V16: 143.4778 | W16: 143.4778 | X16: =[8]PUBLICATION!$Y$17 -> 153.53353 | Y16: ='[1]HISTORIQUE DES INDICES ELE'!$AA$95 -> 165.34201 | Z16: ='[2]HISTORIQUE DES INDICES ELE'!$AB$95 -> 165.11241 | AA16: ='[6]HISTORIQUE DES INDICES ELE'!$AC$95 -> 706.20704 | AB16: ='[4]HISTORIQUE DES INDICES ELE'!$AD$95 -> 729.18008 | AC16: ='[5]INDICES BRANCHES SOUS BRANCHES'!$AH$30 -> 143.47198 | AD16: ='[6]HISTORIQUE DES INDICES ELE'!$AF$95 -> 170.14467 | AE16: =[7]PUBLICATION!$AF$17 -> 234.45006
A17: ACTIVITÉS D'AUXILIAIRES FINANCIERS ET D'ASSURANCE (66) | B17: 742.89776 | C17: 60.788169 | D17: 76.295015 | E17: 118.3131 | F17: 144.60371 | G17: 63.548716 | H17: 87.759925 | I17: 149.19771 | J17: 132.66562 | K17: 76.781798 | L17: 143.04089 | M17: 143.04089 | N17: 131.83325 | O17: 36.012584 | P17: 96.264753 | Q17: 105.11843 | R17: 195.60518 | S17: 89.294413 | T17: 151.80967 | U17: 206.33941 | V17: 237.01667 | W17: 111.61485 | X17: =[8]PUBLICATION!$Y$18 -> 144.78942 | Y17: ='[1]HISTORIQUE DES INDICES ELE'!$AA$100 -> 238.36038 | Z17: ='[2]HISTORIQUE DES INDICES ELE'!$AB$100 -> 284.09529 | AA17: ='[3]HISTORIQUE DES INDICES ELE'!$AC$100 -> 147.67588 | AB17: ='[4]HISTORIQUE DES INDICES ELE'!$AD$100 -> 355.64875 | AC17: ='[5]INDICES BRANCHES SOUS BRANCHES'!$AH$32 -> 490.61464 | AD17: ='[6]HISTORIQUE DES INDICES ELE'!$AF$100 -> 582.09786 | AE17: =[7]PUBLICATION!$AF$17 -> 234.45006
A18: FINANCE ET ASSURANCE (64 à 66) | B18: =+SUM(B15:B17) -> 5629.1537 | C18: =+SUMPRODUCT($B$15:$B$17,C15:C17)/(SUM($B$15:$B$17)) -> 72.667249 | D18: =+SUMPRODUCT($B$15:$B$17,D15:D17)/(SUM($B$15:$B$17)) -> 92.301571 | E18: =+SUMPRODUCT($B$15:$B$17,E15:E17)/(SUM($B$15:$B$17)) -> 105.47128 | F18: =+SUMPRODUCT($B$15:$B$17,F15:F17)/(SUM($B$15:$B$17)) -> 127.38079 | G18: =+SUMPRODUCT($B$15:$B$17,G15:G17)/(SUM($B$15:$B$17)) -> 84.612101 | H18: =+SUMPRODUCT($B$15:$B$17,H15:H17)/(SUM($B$15:$B$17)) -> 96.509804 | I18: =+SUMPRODUCT($B$15:$B$17,I15:I17)/(SUM($B$15:$B$17)) -> 106.58759 | J18: =+SUMPRODUCT($B$15:$B$17,J15:J17)/(SUM($B$15:$B$17)) -> 104.86815 | ... AE18: =+SUMPRODUCT($B$15:$B$17,AE15:AE17)/(SUM($B$15:$B$17)) -> 203.25379
A19: IMMOBILIER (68) | B19: 24.399811 | C19: 87.36691 | D19: 124.9629 | E19: 124.43204 | F19: 110.75683 | G19: 200.20656 | H19: 119.42295 | I19: 115.00353 | J19: 133.11847 | K19: 113.852 | L19: 96.067612 | M19: 96.417681 | N19: 128.52829 | O19: 120.25865 | P19: 117.76146 | Q19: 129.175 | R19: 173.78964 | S19: 160.81772 | T19: 154.72879 | U19: 225.34981 | V19: 171.14796 | W19: 141.59178 | X19: ='[1]HISTORIQUE DES INDICES ELE'!$Z$113 -> 154.72879 | Y19: ='[1]HISTORIQUE DES INDICES ELE'!$AA$113 -> 208.84734 | Z19: ='[2]HISTORIQUE DES INDICES ELE'!$AB$113 -> 249.3871 | AA19: ='[3]HISTORIQUE DES INDICES ELE'!$AC$113 -> 218.98809 | AB19: ='[9]HISTORIQUE DES INDICES ELE'!$AD$113 -> 176.3191 | AC19: ='[5]INDICES BRANCHES SOUS BRANCHES'!$AH$35 -> 234.49858 | AD19: ='[6]HISTORIQUE DES INDICES ELE'!$AF$113 -> 304.49844 | AE19: =[7]PUBLICATION!$AF$19 -> 267.78786
A20: ACTIVITÉS D'ARCHITECTURE, D'INGENIERIE ET TECHNIQUES (71) | B20: 11.793675 | C20: 107.33353 | D20: 95.667134 | E20: 104.40222 | F20: 92.59712 | G20: 111.13436 | H20: 95.373084 | I20: 100.63283 | J20: 88.325729 | K20: 90.876361 | L20: 69.324657 | M20: 69.324657 | N20: 99.586613 | O20: 148.54565 | P20: 99.108378 | Q20: 0 | R20: 0 | S20: 0 | T20: 0 | U20: 0 | V20: =[10]PUBLICATION!$W$20 -> 0 | W20: 0 | X20: =[8]PUBLICATION!$Y$20 -> 0 | Y20: ='[1]HISTORIQUE DES INDICES ELE'!$AA$116 -> 0 | Z20: ='[2]HISTORIQUE DES INDICES ELE'!$AB$116 -> 0 | AA20: ='[3]HISTORIQUE DES INDICES ELE'!$AC$116 -> 0 | AB20: ='[4]HISTORIQUE DES INDICES ELE'!$AD$116 -> 597.79763 | AC20: ='[5]INDICES BRANCHES SOUS BRANCHES'!$AH$37 -> 246.84885 | AD20: ='[6]HISTORIQUE DES INDICES ELE'!$AF$116 -> 529.54411 | AE20: =[7]PUBLICATION!$AF$20 -> 474.4415
A21: PUBLICITE ET ETUDES DE MARCHE (73) | B21: 26.568943 | C21: 32.628674 | D21: 80.394649 | E21: 85.54414 | F21: 314.45586 | G21: 71.281758 | H21: 108.80821 | I21: 157.14492 | J21: 8.6785867 | K21: 39.65069 | L21: 56.645161 | M21: 56.645161 | N21: 70.849238 | O21: 45.79571 | P21: 53.781395 | Q21: 114.36694 | R21: 99.778072 | S21: 45.622083 | T21: 113.80034 | U21: 80.032959 | V21: =[10]PUBLICATION!$W$21 -> 100.74647 | W21: 70.5732 | X21: ='[1]HISTORIQUE DES INDICES ELE'!$Z$119 -> 113.80034 | Y21: ='[1]HISTORIQUE DES INDICES ELE'!$AA$119 -> 30.90677 | Z21: ='[2]HISTORIQUE DES INDICES ELE'!$AB$119 -> 25.18003 | AA21: ='[3]HISTORIQUE DES INDICES ELE'!$AC$119 -> 59.462882 | AB21: ='[4]HISTORIQUE DES INDICES ELE'!$AD$119 -> 88.227011 | AC21: ='[5]INDICES BRANCHES SOUS BRANCHES'!$AH$39 -> 77.286453 | AD21: ='[6]HISTORIQUE DES INDICES ELE'!$AF$119 -> 113.46313 | AE21: =[7]PUBLICATION!$AF$21 -> 79.06855
A22: ACTIVITÉS SPÉCIALISÉES, SCIENTIFIQUES ET TECHNIQUES (69 à 75) | B22: =+SUM(B20:B21) -> 38.362618 | C22: =+SUMPRODUCT($B$20:$B$21,C20:C21)/(SUM($B$20:$B$21)) -> 55.594906 | D22: =+SUMPRODUCT($B$20:$B$21,D20:D21)/(SUM($B$20:$B$21)) -> 85.089812 | E22: =+SUMPRODUCT($B$20:$B$21,E20:E21)/(SUM($B$20:$B$21)) -> 91.341608 | F22: =+SUMPRODUCT($B$20:$B$21,F20:F21)/(SUM($B$20:$B$21)) -> 246.25066 | G22: =+SUMPRODUCT($B$20:$B$21,G20:G21)/(SUM($B$20:$B$21)) -> 83.533492 | H22: =+SUMPRODUCT($B$20:$B$21,H20:H21)/(SUM($B$20:$B$21)) -> 104.6779 | I22: =+SUMPRODUCT($B$20:$B$21,I20:I21)/(SUM($B$20:$B$21)) -> 139.77162 | J22: =+SUMPRODUCT($B$20:$B$21,J20:J21)/(SUM($B$20:$B$21)) -> 33.164208 | ... AE22: =+SUMPRODUCT($B$20:$B$21,AE20:AE21)/(SUM($B$20:$B$21)) -> 200.61657
A23: LOCATION ET LOCATION-BAIL (77) | B23: 9.338832 | C23: 96.266183 | D23: 108.81979 | E23: 102.70588 | F23: 92.208153 | G23: 365.8913 | H23: 50.769299 | I23: 105.2194 | J23: 90.641618 | K23: 69.41848 | L23: 87.547618 | M23: 87.547618 | N23: 98.77259 | O23: 134.72049 | P23: 95.357094 | Q23: 98.169929 | R23: 85.326506 | S23: 131.78889 | T23: 82.40937 | U23: 93.172522 | V23: =[10]PUBLICATION!$W$22 -> 100.1161 | W23: 128.00665 | X23: ='[1]HISTORIQUE DES INDICES ELE'!$Z$122 -> 82.40937 | Y23: ='[1]HISTORIQUE DES INDICES ELE'!$AA$122 -> 0 | Z23: ='[2]HISTORIQUE DES INDICES ELE'!$AB$122 -> 0 | AA23: ='[3]HISTORIQUE DES INDICES ELE'!$AC$122 -> 0 | AB23: ='[4]HISTORIQUE DES INDICES ELE'!$AD$122 -> 0 | AC23: ='[5]INDICES BRANCHES SOUS BRANCHES'!$AH$41 -> 0 | AD23: ='[6]HISTORIQUE DES INDICES ELE'!$AF$122 -> 0 | AE23: =[7]PUBLICATION!$AF$22 -> 0
A24: ENQUETES ET SECURITE (80) | B24: 160.75701 | C24: 92.073423 | D24: 99.930615 | E24: 102.98268 | F24: 105.01328 | G24: 97.063667 | H24: 95.369712 | I24: 105.08803 | J24: 105.06261 | K24: 107.42553 | L24: 111.24513 | M24: 102.17691 | N24: 105.03672 | O24: 109.09232 | P24: 99.03876 | Q24: 102.31715 | R24: 112.4362 | S24: 106.82001 | T24: 106.58085 | U24: 102.9014 | V24: =[10]PUBLICATION!$W$23 -> 121.04839 | W24: 117.57976 | X24: ='[1]HISTORIQUE DES INDICES ELE'!$Z$129 -> 106.58085 | Y24: ='[1]HISTORIQUE DES INDICES ELE'!$AA$129 -> 124.25909 | Z24: ='[2]HISTORIQUE DES INDICES ELE'!$AB$129 -> 125.32012 | AA24: ='[3]HISTORIQUE DES INDICES ELE'!$AC$129 -> 130.45521 | AB24: ='[4]HISTORIQUE DES INDICES ELE'!$AD$129 -> 124.29514 | AC24: ='[5]INDICES BRANCHES SOUS BRANCHES'!$AH$43 -> 118.23057 | AD24: ='[6]HISTORIQUE DES INDICES ELE'!$AF$129 -> 151.71768 | AE24: =[7]PUBLICATION!$AF$23 -> 154.09727
A25: ACTIVITÉS DES SERVICES DE SOUTIEN ET DE BUREAU (77 à 82) | B25: =+SUM(B23:B24) -> 170.09584 | C25: =+SUMPRODUCT($B$23:$B$24,C23:C24)/(SUM($B$23:$B$24)) -> 92.303619 | D25: =+SUMPRODUCT($B$23:$B$24,D23:D24)/(SUM($B$23:$B$24)) -> 100.41866 | E25: =+SUMPRODUCT($B$23:$B$24,E23:E24)/(SUM($B$23:$B$24)) -> 102.96748 | F25: =+SUMPRODUCT($B$23:$B$24,F23:F24)/(SUM($B$23:$B$24)) -> 104.31024 | G25: =+SUMPRODUCT($B$23:$B$24,G23:G24)/(SUM($B$23:$B$24)) -> 111.82321 | H25: =+SUMPRODUCT($B$23:$B$24,H23:H24)/(SUM($B$23:$B$24)) -> 92.920999 | I25: =+SUMPRODUCT($B$23:$B$24,I23:I24)/(SUM($B$23:$B$24)) -> 105.09524 | J25: =+SUMPRODUCT($B$23:$B$24,J23:J24)/(SUM($B$23:$B$24)) -> 104.27085 | ... AE25: =+SUMPRODUCT($B$23:$B$24,AE23:AE24)/(SUM($B$23:$B$24)) -> 145.63681
A26: ENSEIGNEMENT (85) | B26: 0.58426128 | C26: 0 | D26: 0 | E26: 159.67162 | F26: 240.32838 | G26: 250.5832 | H26: 2063.2059 | I26: 685.89371 | J26: 2337.0249 | K26: 1320.1513 | L26: 173.46577 | M26: 261.52957 | N26: 345.5645 | O26: 0 | P26: 688.19144 | Q26: 1880.1536 | R26: 1043.3636 | S26: 1384.9899 | T26: 1458.9235 | U26: 0 | V26: =[10]PUBLICATION!$W$43 -> 422.83411 | W26: 980.73858 | X26: ='[1]HISTORIQUE DES INDICES ELE'!$Z$132 -> 1458.9235 | Y26: ='[1]HISTORIQUE DES INDICES ELE'!$AA$130 -> 1560.8703 | Z26: ='[2]HISTORIQUE DES INDICES ELE'!$AB$132 -> 59.137637 | AA26: ='[3]HISTORIQUE DES INDICES ELE'!$AC$132 -> 450.43167 | AB26: ='[4]INDICES BRANCHES SOUS BRANCHES'!$AG$45 -> 1054.5044 | AC26: ='[5]INDICES BRANCHES SOUS BRANCHES'!$AH$45 -> 1972.2539 | AD26: ='[6]HISTORIQUE DES INDICES ELE'!$AF$132 -> 268.22398 | AE26: =[7]PUBLICATION!$AF$24 -> 1003.9153
A27: ACTIVITÉS POUR LA SANTÉ HUMAINE (86) | B27: 5.9283169 | C27: 84.008199 | D27: 86.047122 | E27: 136.21687 | F27: 93.72781 | G27: 33.895276 | H27: 40.85423 | I27: 39.182294 | J27: 28.240397 | K27: 22.258649 | L27: 19.350828 | M27: 19.350828 | N27: 47.122653 | O27: 14.527147 | P27: 17.44679 | Q27: 17.44679 | R27: 17.561695 | S27: 12.786006 | T27: 20.404773 | U27: 20.299864 | V27: 19.413103 | W27: 22.043858 | X27: ='[1]HISTORIQUE DES INDICES ELE'!$Z$135 -> 20.404773 | Y27: ='[1]HISTORIQUE DES INDICES ELE'!$AA$135 -> 24.568101 | Z27: ='[2]HISTORIQUE DES INDICES ELE'!$AB$135 -> 24.568101 | AA27: ='[3]HISTORIQUE DES INDICES ELE'!$AC$135 -> 33.368381 | AB27: ='[5]HISTORIQUE DES INDICES ELE'!$AD$133 -> 25.49633 | AC27: ='[5]INDICES BRANCHES SOUS BRANCHES'!$AH$47 -> 22.233186 | AD27: ='[6]HISTORIQUE DES INDICES ELE'!$AF$135 -> 32.829984 | AE27: =[7]PUBLICATION!$AF$25 -> 43.015139
A28: ACTIVITÉS POUR LA SANTÉ HUMAINE ET L’ACTION SOCIALE (86 à 88) | B28: =B27 -> 5.9283169 | C28: =C27 -> 84.008199 | D28: =D27 -> 86.047122 | E28: =E27 -> 136.21687 | F28: =F27 -> 93.72781 | G28: =G27 -> 33.895276 | H28: =H27 -> 40.85423 | I28: =I27 -> 39.182294 | ... AE28: =AE27 -> 43.015139
A29: ORGANISATION DE JEUX DE HASARD ET D'ARGENT (92) | B29: 39.788496 | C29: 96.311745 | D29: 76.656935 | E29: 106.67296 | F29: 120.35836 | G29: 79.710743 | H29: 138.98746 | I29: 170.75731 | J29: 162.73562 | K29: 143.77655 | L29: 135.61825 | M29: 112.3617 | N29: 120.61166 | O29: 123.76963 | P29: 122.24047 | Q29: 47.425263 | R29: 36.362205 | S29: 35.356613 | T29: 25.888584 | U29: 53.139248 | V29: 15.282317 | W29: 28.798608 | X29: ='[1]HISTORIQUE DES INDICES ELE'!$Z$139 -> 25.888584 | Y29: ='[1]HISTORIQUE DES INDICES ELE'!$AA$139 -> 42.005928 | Z29: ='[2]HISTORIQUE DES INDICES ELE'!$AB$139 -> 13.545397 | AA29: ='[3]HISTORIQUE DES INDICES ELE'!$AC$139 -> 0 | AB29: ='[4]HISTORIQUE DES INDICES ELE'!$AD$139 -> 0 | AC29: ='[5]INDICES BRANCHES SOUS BRANCHES'!$AH$49 -> 0 | AD29: ='[6]HISTORIQUE DES INDICES ELE'!$AF$139 -> 0 | AE29: =[7]PUBLICATION!$AF$26 -> 0
A30: ACTIVITÉS SPORTIVES, RÉCRÉATIVES ET DE LOISIRS (93) | B30: 2.5832971 | C30: 96.586677 | D30: 139.99556 | E30: 90.064229 | F30: 53.555564 | G30: 63.629129 | H30: 21.83657 | I30: 56.077639 | J30: 80.886775 | K30: 53.425381 | L30: 55.245383 | M30: 60.086744 | N30: 52.295988 | O30: 39.135603 | P30: 32.872731 | Q30: 42.520442 | R30: 99.177106 | S30: 46.421369 | T30: 78.054052 | U30: 152.28102 | V30: 191.34707 | W30: 137.41999 | X30: ='[1]HISTORIQUE DES INDICES ELE'!$Z$145 -> 78.054052 | Y30: ='[1]HISTORIQUE DES INDICES ELE'!$AA$145 -> 156.18395 | Z30: ='[2]HISTORIQUE DES INDICES ELE'!$AB$145 -> 213.87569 | AA30: ='[3]HISTORIQUE DES INDICES ELE'!$AD$145 -> 187.69134 | AB30: ='[4]HISTORIQUE DES INDICES ELE'!$AD$145 -> 132.65466 | AC30: ='[5]INDICES BRANCHES SOUS BRANCHES'!$AH$50 -> 118.45857 | AD30: ='[6]HISTORIQUE DES INDICES ELE'!$AF$145 -> 187.00457 | AE30: =[7]PUBLICATION!$AF$27 -> 142.78246
A31: ACTIVITÉS ARTISTIQUES, SPORTIVES ET RÉCRÉATIVES (90 à 93) | B31: =+SUM(B29:B30) -> 42.371794 | C31: =+SUMPRODUCT($B$29:$B$30,C29:C30)/(SUM($B$29:$B$30)) -> 96.328507 | D31: =+SUMPRODUCT($B$29:$B$30,D29:D30)/(SUM($B$29:$B$30)) -> 80.518525 | E31: =+SUMPRODUCT($B$29:$B$30,E29:E30)/(SUM($B$29:$B$30)) -> 105.66037 | F31: =+SUMPRODUCT($B$29:$B$30,F29:F30)/(SUM($B$29:$B$30)) -> 116.28557 | G31: =+SUMPRODUCT($B$29:$B$30,G29:G30)/(SUM($B$29:$B$30)) -> 78.730289 | H31: =+SUMPRODUCT($B$29:$B$30,H29:H30)/(SUM($B$29:$B$30)) -> 131.84508 | I31: =+SUMPRODUCT($B$29:$B$30,I29:I30)/(SUM($B$29:$B$30)) -> 163.76559 | J31: =+SUMPRODUCT($B$29:$B$30,J29:J30)/(SUM($B$29:$B$30)) -> 157.74551 | ... AE31: =+SUMPRODUCT($B$29:$B$30,AE29:AE30)/(SUM($B$29:$B$30)) -> 8.7050719
A32: ENSEMBLE | B32: 10000 | C32: =((C7*$B$7)+(C10*$B$10)+(C14*$B$14)+(C18*$B$18)+(C19*$B$19)+(C22*$B$22)+(C25*$B$25)+(C26*$B$26)+(C28*$B$28)+(C31*$B$31))/$B$32 -> 75.405662 | D32: =((D7*$B$7)+(D10*$B$10)+(D14*$B$14)+(D18*$B$18)+(D19*$B$19)+(D22*$B$22)+(D25*$B$25)+(D26*$B$26)+(D28*$B$28)+(D31*$B$31))/$B$32 -> 89.482827 | E32: =((E7*$B$7)+(E10*$B$10)+(E14*$B$14)+(E18*$B$18)+(E19*$B$19)+(E22*$B$22)+(E25*$B$25)+(E26*$B$26)+(E28*$B$28)+(E31*$B$31))/$B$32 -> 100.16417 | F32: =((F7*$B$7)+(F10*$B$10)+(F14*$B$14)+(F18*$B$18)+(F19*$B$19)+(F22*$B$22)+(F25*$B$25)+(F26*$B$26)+(F28*$B$28)+(F31*$B$31))/$B$32 -> 110.31513 | G32: =((G7*$B$7)+(G10*$B$10)+(G14*$B$14)+(G18*$B$18)+(G19*$B$19)+(G22*$B$22)+(G25*$B$25)+(G26*$B$26)+(G28*$B$28)+(G31*$B$31))/$B$32 -> 87.21232 | H32: =((H7*$B$7)+(H10*$B$10)+(H14*$B$14)+(H18*$B$18)+(H19*$B$19)+(H22*$B$22)+(H25*$B$25)+(H26*$B$26)+(H28*$B$28)+(H31*$B$31))/$B$32 -> 106.39805 | I32: =((I7*$B$7)+(I10*$B$10)+(I14*$B$14)+(I18*$B$18)+(I19*$B$19)+(I22*$B$22)+(I25*$B$25)+(I26*$B$26)+(I28*$B$28)+(I31*$B$31))/$B$32 -> 110.13945 | J32: =((J7*$B$7)+(J10*$B$10)+(J14*$B$14)+(J18*$B$18)+(J19*$B$19)+(J22*$B$22)+(J25*$B$25)+(J26*$B$26)+(J28*$B$28)+(J31*$B$31))/$B$32 -> 102.61864 | K32: 98.93466 | L32: 120.13012 | M32: 113.23416 | N32: 135.5131 | O32: 117.53509 | P32: 104.61048 | Q32: 150.28119 | R32: 171.25926 | S32: 118.91717 | T32: 160.35726 | U32: 160.05659 | V32: =((V7*$B$7)+(V10*$B$10)+(V14*$B$14)+(V18*$B$18)+(V19*$B$19)+(V22*$B$22)+(V25*$B$25)+(V26*$B$26)+(V28*$B$28)+(V31*$B$31))/$B$32 -> 179.66614 | W32: =((W7*$B$7)+(W10*$B$10)+(W14*$B$14)+(W18*$B$18)+(W19*$B$19)+(W22*$B$22)+(W25*$B$25)+(W26*$B$26)+(W28*$B$28)+(W31*$B$31))/$B$32 -> 147.96206 | X32: =((X7*$B$7)+(X10*$B$10)+(X14*$B$14)+(X18*$B$18)+(X19*$B$19)+(X22*$B$22)+(X25*$B$25)+(X26*$B$26)+(X28*$B$28)+(X31*$B$31))/$B$32 -> 177.38731 | Y32: =((Y7*$B$7)+(Y10*$B$10)+(Y14*$B$14)+(Y18*$B$18)+(Y19*$B$19)+(Y22*$B$22)+(Y25*$B$25)+(Y26*$B$26)+(Y28*$B$28)+(Y31*$B$31))/$B$32 -> 200.10043 | Z32: =((Z7*$B$7)+(Z10*$B$10)+(Z14*$B$14)+(Z18*$B$18)+(Z19*$B$19)+(Z22*$B$22)+(Z25*$B$25)+(Z26*$B$26)+(Z28*$B$28)+(Z31*$B$31))/$B$32 -> 211.8359 | AA32: =((AA7*$B$7)+(AA10*$B$10)+(AA14*$B$14)+(AA18*$B$18)+(AA19*$B$19)+(AA22*$B$22)+(AA25*$B$25)+(AA26*$B$26)+(AA28*$B$28)+(AA31*$B$31))/$B$32 -> 227.73036 | AB32: =((AB7*$B$7)+(AB10*$B$10)+(AB14*$B$14)+(AB18*$B$18)+(AB19*$B$19)+(AB22*$B$22)+(AB25*$B$25)+(AB26*$B$26)+(AB28*$B$28)+(AB31*$B$31))/$B$32 -> 270.04563 | AC32: =((AC7*$B$7)+(AC10*$B$10)+(AC14*$B$14)+(AC18*$B$18)+(AC19*$B$19)+(AC22*$B$22)+(AC25*$B$25)+(AC26*$B$26)+(AC28*$B$28)+(AC31*$B$31))/$B$32 -> 263.50956 | AD32: ='[6]HISTORIQUE DES INDICES ELE'!$AF$148 -> 271.45056 | AE32: =[7]PUBLICATION!$AF$30 -> 213.78283

Sheet Annexe 2
A2: SECTIONS | C2: T1_2018 | D2: T2_2018 | E2: T3_2018 | F2: T4_2018 | G2: T1_2019 | H2: T2-2019 | I2: T3-2019 | J2: T4-2019 | K2: T1-2020 | L2: T2-2020 | M2: T3-2020 | N2: T4-2020 | O2: T1-2021 | P2: T2-2021 | Q2: T3-2021 | R2: T4-2021 | S2: T1-2022 | T2: T2-2022 | U2: T3-2022 | V2: T4-2022 | W2: T1-2023 | X2: T2-2023 | Y2: T3-2023 | Z2: T4-2023 | AA2: T1-2024 | AB2: T2-2024 | AC2: T3-2024 | AD2: T4-2024 | AE2: T1-2025
A3: TRANSPORT ET ENTREPOSAGE (49 à 53) | B3: ='Annexe 1'!B7 -> 1302.8728 | C3: ='Annexe 1'!C7 -> 46.216424 | D3: ='Annexe 1'!D7 -> 59.427913 | E3: ='Annexe 1'!E7 -> 57.475342 | F3: ='Annexe 1'!F7 -> 48.599558 | G3: ='Annexe 1'!G7 -> 41.361182 | H3: ='Annexe 1'!H7 -> 130.69051 | I3: ='Annexe 1'!I7 -> 105.47854 | ... AE3: ='Annexe 1'!AE7 -> 64.227878
A4: HÉBERGEMENT ET RESTAURATION (55 &56) | B4: ='Annexe 1'!B10 -> 134.81136 | C4: ='Annexe 1'!C10 -> 87.693807 | D4: ='Annexe 1'!D10 -> 95.017954 | E4: ='Annexe 1'!E10 -> 97.933768 | F4: ='Annexe 1'!F10 -> 105.77417 | G4: ='Annexe 1'!G10 -> 105.78939 | H4: ='Annexe 1'!H10 -> 103.6239 | I4: ='Annexe 1'!I10 -> 109.98445 | ... AE4: ='Annexe 1'!AE10 -> 325.34428
A5: INFORMATION ET COMMUNICATION (58 à 63) | B5: ='Annexe 1'!B14 -> 2651.4195 | C5: ='Annexe 1'!C14 -> 93.693458 | D5: ='Annexe 1'!D14 -> 97.191735 | E5: ='Annexe 1'!E14 -> 109.52985 | F5: ='Annexe 1'!F14 -> 102.96801 | G5: ='Annexe 1'!G14 -> 111.97217 | H5: ='Annexe 1'!H14 -> 115.67387 | I5: ='Annexe 1'!I14 -> 119.00339 | ... AE5: ='Annexe 1'!AE14 -> 271.54889
A6: FINANCE ET ASSURANCE (64 à 66) | B6: ='Annexe 1'!B18 -> 5629.1537 | C6: ='Annexe 1'!C18 -> 72.667249 | D6: ='Annexe 1'!D18 -> 92.301571 | E6: ='Annexe 1'!E18 -> 105.47128 | F6: ='Annexe 1'!F18 -> 127.38079 | G6: ='Annexe 1'!G18 -> 84.612101 | H6: ='Annexe 1'!H18 -> 96.509804 | I6: ='Annexe 1'!I18 -> 106.58759 | ... AE6: ='Annexe 1'!AE18 -> 203.25379
A7: IMMOBILIER (68) | B7: ='Annexe 1'!B19 -> 24.399811 | C7: ='Annexe 1'!C19 -> 87.36691 | D7: ='Annexe 1'!D19 -> 124.9629 | E7: ='Annexe 1'!E19 -> 124.43204 | F7: ='Annexe 1'!F19 -> 110.75683 | G7: ='Annexe 1'!G19 -> 200.20656 | H7: ='Annexe 1'!H19 -> 119.42295 | I7: ='Annexe 1'!I19 -> 115.00353 | ... AE7: ='Annexe 1'!AE19 -> 267.78786
A8: ACTIVITÉS SPÉCIALISÉES, SCIENTIFIQUES ET TECHNIQUES (69 à 75) | B8: ='Annexe 1'!B22 -> 38.362618 | C8: ='Annexe 1'!C22 -> 55.594906 | D8: ='Annexe 1'!D22 -> 85.089812 | E8: ='Annexe 1'!E22 -> 91.341608 | F8: ='Annexe 1'!F22 -> 246.25066 | G8: ='Annexe 1'!G22 -> 83.533492 | H8: ='Annexe 1'!H22 -> 104.6779 | I8: ='Annexe 1'!I22 -> 139.77162 | ... AE8: ='Annexe 1'!AE22 -> 200.61657
A9: ACTIVITÉS DES SERVICES DE SOUTIEN ET DE BUREAU (77 à 82) | B9: ='Annexe 1'!B25 -> 170.09584 | C9: ='Annexe 1'!C25 -> 92.303619 | D9: ='Annexe 1'!D25 -> 100.41866 | E9: ='Annexe 1'!E25 -> 102.96748 | F9: ='Annexe 1'!F25 -> 104.31024 | G9: ='Annexe 1'!G25 -> 111.82321 | H9: ='Annexe 1'!H25 -> 92.920999 | I9: ='Annexe 1'!I25 -> 105.09524 | ... AE9: ='Annexe 1'!AE25 -> 145.63681
A10: ENSEIGNEMENT (85) | B10: ='Annexe 1'!B26 -> 0.58426128 | C10: ='Annexe 1'!C26 -> 0 | D10: ='Annexe 1'!D26 -> 0 | E10: ='Annexe 1'!E26 -> 159.67162 | F10: ='Annexe 1'!F26 -> 240.32838 | G10: ='Annexe 1'!G26 -> 250.5832 | H10: ='Annexe 1'!H26 -> 2063.2059 | I10: ='Annexe 1'!I26 -> 685.89371 | ... AE10: ='Annexe 1'!AE26 -> 1003.9153
A11: ACTIVITÉS POUR LA SANTÉ HUMAINE ET L’ACTION SOCIALE (86 à 88) | B11: ='Annexe 1'!B28 -> 5.9283169 | C11: ='Annexe 1'!C28 -> 84.008199 | D11: ='Annexe 1'!D28 -> 86.047122 | E11: ='Annexe 1'!E28 -> 136.21687 | F11: ='Annexe 1'!F28 -> 93.72781 | G11: ='Annexe 1'!G28 -> 33.895276 | H11: ='Annexe 1'!H28 -> 40.85423 | I11: ='Annexe 1'!I28 -> 39.182294 | ... AE11: ='Annexe 1'!AE28 -> 43.015139
A12: ACTIVITÉS ARTISTIQUES, SPORTIVES ET RÉCRÉATIVES (90 à 93) | B12: ='Annexe 1'!B31 -> 42.371794 | C12: ='Annexe 1'!C31 -> 96.328507 | D12: ='Annexe 1'!D31 -> 80.518525 | E12: ='Annexe 1'!E31 -> 105.66037 | F12: ='Annexe 1'!F31 -> 116.28557 | G12: ='Annexe 1'!G31 -> 78.730289 | H12: ='Annexe 1'!H31 -> 131.84508 | I12: ='Annexe 1'!I31 -> 163.76559 | ... AE12: ='Annexe 1'!AE31 -> 8.7050719
A13: INDICE GLOBAL | B13: =+SUM(B3:B12) -> 10000 | C13: =+SUMPRODUCT($B$3:$B$12,C3:C12)/(SUM($B$3:$B$12)) -> 75.405662 | D13: =+SUMPRODUCT($B$3:$B$12,D3:D12)/(SUM($B$3:$B$12)) -> 89.482827 | E13: =+SUMPRODUCT($B$3:$B$12,E3:E12)/(SUM($B$3:$B$12)) -> 100.16417 | F13: =+SUMPRODUCT($B$3:$B$12,F3:F12)/(SUM($B$3:$B$12)) -> 110.31513 | G13: =+SUMPRODUCT($B$3:$B$12,G3:G12)/(SUM($B$3:$B$12)) -> 87.21232 | H13: =+SUMPRODUCT($B$3:$B$12,H3:H12)/(SUM($B$3:$B$12)) -> 106.39805 | I13: =+SUMPRODUCT($B$3:$B$12,I3:I12)/(SUM($B$3:$B$12)) -> 110.13945 | J13: =+SUMPRODUCT($B$3:$B$12,J3:J12)/(SUM($B$3:$B$12)) -> 102.61864 | ... X13: =+SUMPRODUCT($B$3:$B$12,X3:X12)/(SUM($B$3:$B$12)) -> 177.38731 | Y13: ='Annexe 1'!Y32 -> 200.10043 | Z13: =+SUMPRODUCT($B$3:$B$12,Z3:Z12)/(SUM($B$3:$B$12)) -> 211.8359 | AA13: =+SUMPRODUCT($B$3:$B$12,AA3:AA12)/(SUM($B$3:$B$12)) -> 227.73036 | AB13: =+SUMPRODUCT($B$3:$B$12,AB3:AB12)/(SUM($B$3:$B$12)) -> 270.04563 | AC13: =+SUMPRODUCT($B$3:$B$12,AC3:AC12)/(SUM($B$3:$B$12)) -> 263.50956 | AD13: =+SUMPRODUCT($B$3:$B$12,AD3:AD12)/(SUM($B$3:$B$12)) -> 271.45056 | AE13: =+SUMPRODUCT($B$3:$B$12,AE3:AE12)/(SUM($B$3:$B$12)) -> 203.18905

Sheet PUBLICATIONS
A1: PUBLICATION DES DONNEES DE L'ICAB/SERVICES
A3: PUBLICATION PAR BRANCHES
A5: BRANCHES REGROUPEES | B5: PONDERATIONS | C5: 2018 | D5: 2008 | E5: 2008 | F5: 2008 | G5: 2019 | K5: 2020 | O5: 2021 | P5: 2011 | Q5: 2011 | R5: 2011 | S5: 2022 | W5: 2023 | AA5: 2024 | AE5: 2025 | AF5: VARIATION EN GLISSEMENT ANNUEL | AG5: CONTRIBUTION ANNUEL
C6: T1 2018 | D6: T2 2018 | E6: T3 2018 | F6: T4 2018 | G6: T1 2019 | H6: T2 2019 | I6: T3 2019 | J6: T4 2019 | K6: T1 2020 | L6: T2 2020 | M6: T3 2020 | N6: T4 2020 | O6: T1 2021 | P6: T2 2021 | Q6: T3 2021 | R6: T4 2021 | S6: T1 2022 | T6: T2 2022 | U6: T3 2022 | V6: T4 2022 | W6: T1 2023 | X6: T2 2023 | Y6: T3 2023 | Z6: T4 2023 | AA6: T1 2024 | AB6: T2 2024 | AC6: T3 2024 | AD6: T4 2024 | AE6: T1 2025 | AF6: T1 | AG6: T1
A7: TRANSPORTS TERRESTRES (49) | B7: ='Annexe 1'!B4 -> 992.79209 | C7: ='Annexe 1'!C4 -> 33.555522 | D7: ='Annexe 1'!D4 -> 46.375672 | E7: ='Annexe 1'!E4 -> 41.552513 | F7: ='Annexe 1'!F4 -> 30.57974 | G7: ='Annexe 1'!G4 -> 23.713445 | H7: ='Annexe 1'!H4 -> 138.90577 | I7: ='Annexe 1'!I4 -> 107.0768 | ... AE7: ='Annexe 1'!AE4 -> 9.2630354 | AF7: =((AE7/AA7)-1)*100 -> -33.58358 | AG7: =+$B7*AF7/10000 -> -3.3341513
A8: TRANSPORTS PAR EAU (50) | B8: ='Annexe 1'!B5 -> 105.45118 | C8: ='Annexe 1'!C5 -> 70.546693 | D8: ='Annexe 1'!D5 -> 82.017214 | E8: ='Annexe 1'!E5 -> 136.69176 | F8: ='Annexe 1'!F5 -> 118.74394 | G8: ='Annexe 1'!G5 -> 126.59862 | H8: ='Annexe 1'!H5 -> 128.88065 | I8: ='Annexe 1'!I5 -> 110.76235 | ... AE8: ='Annexe 1'!AE5 -> 109.74052 | AF8: =((AE8/AA8)-1)*100 -> -29.738535 | AG8: =+$B8*AF8/10000 -> -0.31359635
A9: ENTREPOSAGE ET ACTIVITÉS DES AUXILIAIRES DE TRANSPORT (52) | B9: ='Annexe 1'!B6 -> 204.62951 | C9: ='Annexe 1'!C6 -> 95.104719 | D9: ='Annexe 1'!D6 -> 111.11202 | E9: ='Annexe 1'!E6 -> 93.905056 | F9: ='Annexe 1'!F6 -> 99.878207 | G9: ='Annexe 1'!G6 -> 83.056757 | H9: ='Annexe 1'!H6 -> 91.765575 | I9: ='Annexe 1'!I6 -> 95.00144 | ... AE9: ='Annexe 1'!AE6 -> 307.4445 | AF9: =((AE9/AA9)-1)*100 -> 158.67357 | AG9: =+$B9*AF9/10000 -> 3.2469294
A10: TRANSPORT ET ENTREPOSAGE (49 à 53) | B10: ='Annexe 1'!B7 -> 1302.8728 | C10: ='Annexe 1'!C7 -> 46.216424 | D10: ='Annexe 1'!D7 -> 59.427913 | E10: ='Annexe 1'!E7 -> 57.475342 | F10: ='Annexe 1'!F7 -> 48.599558 | G10: ='Annexe 1'!G7 -> 41.361182 | H10: ='Annexe 1'!H7 -> 130.69051 | I10: ='Annexe 1'!I7 -> 105.47854 | ... AE10: ='Annexe 1'!AE7 -> 64.227878 | AF10: =+SUMPRODUCT($B$7:$B$9,AF7:AF9)/(SUM($B$7:$B$9)) -> -3.0764186 | AG10: =+SUMPRODUCT($B$7:$B$9,AG7:AG9)/(SUM($B$7:$B$9)) -> -2.0560492
A11: HEBERGEMENT (55) | B11: ='Annexe 1'!B8 -> 62.53696 | C11: ='Annexe 1'!C8 -> 92.572688 | D11: ='Annexe 1'!D8 -> 92.872572 | E11: ='Annexe 1'!E8 -> 97.11817 | F11: ='Annexe 1'!F8 -> 108.37586 | G11: ='Annexe 1'!G8 -> 102.03002 | H11: ='Annexe 1'!H8 -> 103.75055 | I11: ='Annexe 1'!I8 -> 100.94728 | ... AE11: ='Annexe 1'!AE8 -> 327.00488 | AF11: =((AE11/AA11)-1)*100 -> 29.60135 | AG11: =+$B11*AF11/10000 -> 0.18511785
A12: RESTAURATION ET DEBITS DE BOISSON (56) | B12: ='Annexe 1'!B9 -> 72.274402 | C12: ='Annexe 1'!C9 -> 83.472251 | D12: ='Annexe 1'!D9 -> 96.874291 | E12: ='Annexe 1'!E9 -> 98.639481 | F12: ='Annexe 1'!F9 -> 103.52301 | G12: ='Annexe 1'!G9 -> 109.04227 | H12: ='Annexe 1'!H9 -> 103.5143 | I12: ='Annexe 1'!I9 -> 117.80406 | ... AE12: ='Annexe 1'!AE9 -> 323.9074 | AF12: =((AE12/AA12)-1)*100 -> 18.64716 | AG12: =+$B12*AF12/10000 -> 0.13477124
A13: HÉBERGEMENT ET RESTAURATION (55 &56) | B13: ='Annexe 1'!B10 -> 134.81136 | C13: ='Annexe 1'!C10 -> 87.693807 | D13: ='Annexe 1'!D10 -> 95.017954 | E13: ='Annexe 1'!E10 -> 97.933768 | F13: ='Annexe 1'!F10 -> 105.77417 | G13: ='Annexe 1'!G10 -> 105.78939 | H13: ='Annexe 1'!H10 -> 103.6239 | I13: ='Annexe 1'!I10 -> 109.98445 | ... AE13: ='Annexe 1'!AE10 -> 325.34428 | AF13: =+SUMPRODUCT($B$11:$B$12,AF11:AF12)/(SUM($B$11:$B$12)) -> 23.728644 | AG13: =+SUMPRODUCT($B$11:$B$12,AG11:AG12)/(SUM($B$11:$B$12)) -> 0.15812627
A14: PROGRAMMATION TELEVISUELLE ; RADIODIFFUSION (60) | B14: ='Annexe 1'!B11 -> 57.141231 | C14: ='Annexe 1'!C11 -> 64.832331 | D14: ='Annexe 1'!D11 -> 100.06911 | E14: ='Annexe 1'!E11 -> 104.36667 | F14: ='Annexe 1'!F11 -> 132.38444 | G14: ='Annexe 1'!G11 -> 77.555272 | H14: ='Annexe 1'!H11 -> 95.207514 | I14: ='Annexe 1'!I11 -> 135.44095 | ... AE14: ='Annexe 1'!AE11 -> 136.76555 | AF14: =((AE14/AA14)-1)*100 -> 100.14472 | AG14: =+$B14*AF14/10000 -> 0.57223926
A15: TÉLÉCOMMUNICATIONS (61) | B15: ='Annexe 1'!B12 -> 2469.5772 | C15: ='Annexe 1'!C12 -> 92.212693 | D15: ='Annexe 1'!D12 -> 98.263469 | E15: ='Annexe 1'!E12 -> 109.9879 | F15: ='Annexe 1'!F12 -> 101.79258 | G15: ='Annexe 1'!G12 -> 112.48024 | H15: ='Annexe 1'!H12 -> 115.74103 | I15: ='Annexe 1'!I12 -> 116.07964 | ... AE15: ='Annexe 1'!AE12 -> 288.32127 | AF15: =((AE15/AA15)-1)*100 -> -13.342058 | AG15: =+$B15*AF15/10000 -> -3.2949241
A16: ACTIVITÉS INFORMATIQUES : CONSEIL, PROGRAMMATION (62) | B16: ='Annexe 1'!B13 -> 124.70107 | C16: ='Annexe 1'!C13 -> 136.2434 | D16: ='Annexe 1'!D13 -> 74.648642 | E16: ='Annexe 1'!E13 -> 102.8245 | F16: ='Annexe 1'!F13 -> 112.76686 | G16: ='Annexe 1'!G13 -> 117.68103 | H16: ='Annexe 1'!H13 -> 123.72207 | I16: ='Annexe 1'!I13 -> 169.37309 | ... AE16: ='Annexe 1'!AE13 -> 1.150145 | AF16: =((AE16/AA16)-1)*100 -> 42.029168 | AG16: =+$B16*AF16/10000 -> 0.52410822
A17: INFORMATION ET COMMUNICATION (58 à 63) | B17: ='Annexe 1'!B14 -> 2651.4195 | C17: ='Annexe 1'!C14 -> 93.693458 | D17: ='Annexe 1'!D14 -> 97.191735 | E17: ='Annexe 1'!E14 -> 109.52985 | F17: ='Annexe 1'!F14 -> 102.96801 | G17: ='Annexe 1'!G14 -> 111.97217 | H17: ='Annexe 1'!H14 -> 115.67387 | I17: ='Annexe 1'!I14 -> 119.00339 | ... AE17: ='Annexe 1'!AE14 -> 271.54889 | AF17: =+SUMPRODUCT($B$14:$B$16,AF14:AF16)/(SUM($B$14:$B$16)) -> -8.2920739 | AG17: =+SUMPRODUCT($B$14:$B$16,AG14:AG16)/(SUM($B$14:$B$16)) -> -3.0319662
A18: ACTIVITES FINANCIERES (64) | B18: ='Annexe 1'!B15 -> 4350.9442 | C18: ='Annexe 1'!C15 -> 69.298262 | D18: ='Annexe 1'!D15 -> 95.495451 | E18: ='Annexe 1'!E15 -> 105.32203 | F18: ='Annexe 1'!F15 -> 127.19255 | G18: ='Annexe 1'!G15 -> 81.958189 | H18: ='Annexe 1'!H15 -> 96.634315 | I18: ='Annexe 1'!I15 -> 98.257336 | ... AE18: ='Annexe 1'!AE15 -> 194.08903 | AF18: =((AE18/AA18)-1)*100 -> -0.051177944 | AG18: =+$B18*AF18/10000 -> -0.022267238
A19: ASSURANCE (65) | B19: ='Annexe 1'!B16 -> 535.31175 | C19: ='Annexe 1'!C16 -> 116.53554 | D19: ='Annexe 1'!D16 -> 88.5558 | E19: ='Annexe 1'!E16 -> 88.862649 | F19: ='Annexe 1'!F16 -> 105.00907 | G19: ='Annexe 1'!G16 -> 135.4142 | H19: ='Annexe 1'!H16 -> 107.64074 | I19: ='Annexe 1'!I16 -> 115.16108 | ... AE19: ='Annexe 1'!AE16 -> 234.45006 | AF19: =((AE19/AA19)-1)*100 -> -66.801512 | AG19: =+$B19*AF19/10000 -> -3.5759634
A20: ACTIVITÉS D'AUXILIAIRES FINANCIERS ET D'ASSURANCE (66) | B20: ='Annexe 1'!B17 -> 742.89776 | C20: ='Annexe 1'!C17 -> 60.788169 | D20: ='Annexe 1'!D17 -> 76.295015 | E20: ='Annexe 1'!E17 -> 118.3131 | F20: ='Annexe 1'!F17 -> 144.60371 | G20: ='Annexe 1'!G17 -> 63.548716 | H20: ='Annexe 1'!H17 -> 87.759925 | I20: ='Annexe 1'!I17 -> 149.19771 | ... AE20: ='Annexe 1'!AE17 -> 234.45006 | AF20: =((AE20/AA20)-1)*100 -> 58.759879 | AG20: =+$B20*AF20/10000 -> 4.3652583
A21: FINANCE ET ASSURANCE (64 à 66) | B21: ='Annexe 1'!B18 -> 5629.1537 | C21: ='Annexe 1'!C18 -> 72.667249 | D21: ='Annexe 1'!D18 -> 92.301571 | E21: ='Annexe 1'!E18 -> 105.47128 | F21: ='Annexe 1'!F18 -> 127.38079 | G21: ='Annexe 1'!G18 -> 84.612101 | H21: ='Annexe 1'!H18 -> 96.509804 | I21: ='Annexe 1'!I18 -> 106.58759 | ... AE21: ='Annexe 1'!AE18 -> 203.25379 | AF21: =+SUMPRODUCT($B$18:$B$20,AF18:AF20)/(SUM($B$18:$B$20)) -> 1.3625985 | AG21: =+SUMPRODUCT($B$18:$B$20,AG18:AG20)/(SUM($B$18:$B$20)) -> 0.21882541
A22: ACTIVITES IMMOBILIERES (68) | B22: ='Annexe 1'!B19 -> 24.399811 | C22: ='Annexe 1'!C19 -> 87.36691 | D22: ='Annexe 1'!D19 -> 124.9629 | E22: ='Annexe 1'!E19 -> 124.43204 | F22: ='Annexe 1'!F19 -> 110.75683 | G22: ='Annexe 1'!G19 -> 200.20656 | H22: ='Annexe 1'!H19 -> 119.42295 | I22: ='Annexe 1'!I19 -> 115.00353 | ... AE22: ='Annexe 1'!AE19 -> 267.78786 | AF22: =((AE22/AA22)-1)*100 -> 22.284211 | AG22: =+$B22*AF22/10000 -> 0.054373054
A23: IMMOBILIER (68) | B23: ='Annexe 1'!B19 -> 24.399811 | C23: ='Annexe 1'!C19 -> 87.36691 | D23: ='Annexe 1'!D19 -> 124.9629 | E23: ='Annexe 1'!E19 -> 124.43204 | F23: ='Annexe 1'!F19 -> 110.75683 | G23: ='Annexe 1'!G19 -> 200.20656 | H23: ='Annexe 1'!H19 -> 119.42295 | I23: ='Annexe 1'!I19 -> 115.00353 | ... AE23: ='Annexe 1'!AE19 -> 267.78786 | AF23: =AF22 -> 22.284211 | AG23: =AG22 -> 0.054373054
A24: ACTIVITÉS D'ARCHITECTURE, D'INGENIERIE ET TECHNIQUES (71) | B24: ='Annexe 1'!B20 -> 11.793675 | C24: ='Annexe 1'!C20 -> 107.33353 | D24: ='Annexe 1'!D20 -> 95.667134 | E24: ='Annexe 1'!E20 -> 104.40222 | F24: ='Annexe 1'!F20 -> 92.59712 | G24: ='Annexe 1'!G20 -> 111.13436 | H24: ='Annexe 1'!H20 -> 95.373084 | I24: ='Annexe 1'!I20 -> 100.63283 | ... AE24: ='Annexe 1'!AE20 -> 474.4415 | AF24: 0 | AG24: =+$B24*AF24/10000 -> 0
A25: PUBLICITE ET ETUDES DE MARCHE (73) | B25: ='Annexe 1'!B21 -> 26.568943 | C25: ='Annexe 1'!C21 -> 32.628674 | D25: ='Annexe 1'!D21 -> 80.394649 | E25: ='Annexe 1'!E21 -> 85.54414 | F25: ='Annexe 1'!F21 -> 314.45586 | G25: ='Annexe 1'!G21 -> 71.281758 | H25: ='Annexe 1'!H21 -> 108.80821 | I25: ='Annexe 1'!I21 -> 157.14492 | ... AE25: ='Annexe 1'!AE21 -> 79.06855 | AF25: =((AE25/AA25)-1)*100 -> 32.97127 | AG25: =+$B25*AF25/10000 -> 0.087601178
A26: ACTIVITÉS SPÉCIALISÉES, SCIENTIFIQUES ET TECHNIQUES (69 à 75) | B26: ='Annexe 1'!B22 -> 38.362618 | C26: ='Annexe 1'!C22 -> 55.594906 | D26: ='Annexe 1'!D22 -> 85.089812 | E26: ='Annexe 1'!E22 -> 91.341608 | F26: ='Annexe 1'!F22 -> 246.25066 | G26: ='Annexe 1'!G22 -> 83.533492 | H26: ='Annexe 1'!H22 -> 104.6779 | I26: ='Annexe 1'!I22 -> 139.77162 | ... AE26: ='Annexe 1'!AE22 -> 200.61657 | AF26: =+SUMPRODUCT($B$24:$B$25,AF24:AF25)/(SUM($B$24:$B$25)) -> 22.835036 | AG26: =+SUMPRODUCT($B$24:$B$25,AG24:AG25)/(SUM($B$24:$B$25)) -> 0.060670278
A27: LOCATION ET LOCATION-BAIL (77) | B27: ='Annexe 1'!B23 -> 9.338832 | C27: ='Annexe 1'!C23 -> 96.266183 | D27: ='Annexe 1'!D23 -> 108.81979 | E27: ='Annexe 1'!E23 -> 102.70588 | F27: ='Annexe 1'!F23 -> 92.208153 | G27: ='Annexe 1'!G23 -> 365.8913 | H27: ='Annexe 1'!H23 -> 50.769299 | I27: ='Annexe 1'!I23 -> 105.2194 | ... AE27: ='Annexe 1'!AE23 -> 0 | AF27: 0 | AG27: =+$B27*AF27/10000 -> 0
A28: ENQUETES ET SECURITE (80) | B28: ='Annexe 1'!B24 -> 160.75701 | C28: ='Annexe 1'!C24 -> 92.073423 | D28: ='Annexe 1'!D24 -> 99.930615 | E28: ='Annexe 1'!E24 -> 102.98268 | F28: ='Annexe 1'!F24 -> 105.01328 | G28: ='Annexe 1'!G24 -> 97.063667 | H28: ='Annexe 1'!H24 -> 95.369712 | I28: ='Annexe 1'!I24 -> 105.08803 | ... AE28: ='Annexe 1'!AE24 -> 154.09727 | AF28: =((AE28/AA28)-1)*100 -> 18.12274 | AG28: =+$B28*AF28/10000 -> 0.29133575
A29: ACTIVITÉS DES SERVICES DE SOUTIEN ET DE BUREAU (77 à 82) | B29: ='Annexe 1'!B25 -> 170.09584 | C29: ='Annexe 1'!C25 -> 92.303619 | D29: ='Annexe 1'!D25 -> 100.41866 | E29: ='Annexe 1'!E25 -> 102.96748 | F29: ='Annexe 1'!F25 -> 104.31024 | G29: ='Annexe 1'!G25 -> 111.82321 | H29: ='Annexe 1'!H25 -> 92.920999 | I29: ='Annexe 1'!I25 -> 105.09524 | ... AE29: ='Annexe 1'!AE25 -> 145.63681 | AF29: =+SUMPRODUCT($B$27:$B$28,AF27:AF28)/(SUM($B$27:$B$28)) -> 17.12774 | AG29: =+SUMPRODUCT($B$27:$B$28,AG27:AG28)/(SUM($B$27:$B$28)) -> 0.27534044
A30: ENSEIGNEMENT (85) | B30: ='Annexe 1'!B26 -> 0.58426128 | C30: ='Annexe 1'!C26 -> 0 | D30: ='Annexe 1'!D26 -> 0 | E30: ='Annexe 1'!E26 -> 159.67162 | F30: ='Annexe 1'!F26 -> 240.32838 | G30: ='Annexe 1'!G26 -> 250.5832 | H30: ='Annexe 1'!H26 -> 2063.2059 | I30: ='Annexe 1'!I26 -> 685.89371 | ... AE30: ='Annexe 1'!AE26 -> 1003.9153 | AF30: =((AE30/AA30)-1)*100 -> 122.87848 | AG30: =+$B30*AF30/10000 -> 0.0071793138
A31: ENSEIGNEMENT (85) | B31: ='Annexe 1'!B26 -> 0.58426128 | C31: ='Annexe 1'!C26 -> 0 | D31: ='Annexe 1'!D26 -> 0 | E31: ='Annexe 1'!E26 -> 159.67162 | F31: ='Annexe 1'!F26 -> 240.32838 | G31: ='Annexe 1'!G26 -> 250.5832 | H31: ='Annexe 1'!H26 -> 2063.2059 | I31: ='Annexe 1'!I26 -> 685.89371 | ... AE31: ='Annexe 1'!AE26 -> 1003.9153 | AF31: =AF30 -> 122.87848 | AG31: =AG30 -> 0.0071793138
A32: ACTIVITÉS POUR LA SANTÉ HUMAINE (86) | B32: ='Annexe 1'!B27 -> 5.9283169 | C32: ='Annexe 1'!C27 -> 84.008199 | D32: ='Annexe 1'!D27 -> 86.047122 | E32: ='Annexe 1'!E27 -> 136.21687 | F32: ='Annexe 1'!F27 -> 93.72781 | G32: ='Annexe 1'!G27 -> 33.895276 | H32: ='Annexe 1'!H27 -> 40.85423 | I32: ='Annexe 1'!I27 -> 39.182294 | ... AE32: ='Annexe 1'!AE27 -> 43.015139 | AF32: =((AE32/AA32)-1)*100 -> 28.909878 | AG32: =+$B32*AF32/10000 -> 0.017138692
A33: ACTIVITÉS POUR LA SANTÉ HUMAINE ET L’ACTION SOCIALE (86 à 88) | B33: ='Annexe 1'!B28 -> 5.9283169 | C33: ='Annexe 1'!C28 -> 84.008199 | D33: ='Annexe 1'!D28 -> 86.047122 | E33: ='Annexe 1'!E28 -> 136.21687 | F33: ='Annexe 1'!F28 -> 93.72781 | G33: ='Annexe 1'!G28 -> 33.895276 | H33: ='Annexe 1'!H28 -> 40.85423 | I33: ='Annexe 1'!I28 -> 39.182294 | ... AE33: ='Annexe 1'!AE28 -> 43.015139 | AF33: =AF32 -> 28.909878 | AG33: =AG32 -> 0.017138692
A34: ORGANISATION DE JEUX DE HASARD ET D'ARGENT (92) | B34: ='Annexe 1'!B29 -> 39.788496 | C34: ='Annexe 1'!C29 -> 96.311745 | D34: ='Annexe 1'!D29 -> 76.656935 | E34: ='Annexe 1'!E29 -> 106.67296 | F34: ='Annexe 1'!F29 -> 120.35836 | G34: ='Annexe 1'!G29 -> 79.710743 | H34: ='Annexe 1'!H29 -> 138.98746 | I34: ='Annexe 1'!I29 -> 170.75731 | ... AE34: ='Annexe 1'!AE29 -> 0 | AF34: 0 | AG34: =+$B34*AF34/10000 -> 0
A35: ACTIVITÉS SPORTIVES, RÉCRÉATIVES ET DE LOISIRS (93) | B35: ='Annexe 1'!B30 -> 2.5832971 | C35: ='Annexe 1'!C30 -> 96.586677 | D35: ='Annexe 1'!D30 -> 139.99556 | E35: ='Annexe 1'!E30 -> 90.064229 | F35: ='Annexe 1'!F30 -> 53.555564 | G35: ='Annexe 1'!G30 -> 63.629129 | H35: ='Annexe 1'!H30 -> 21.83657 | I35: ='Annexe 1'!I30 -> 56.077639 | ... AE35: ='Annexe 1'!AE30 -> 142.78246 | AF35: =((AE35/AA35)-1)*100 -> -23.92699 | AG35: =+$B35*AF35/10000 -> -0.0061810524
A36: ACTIVITÉS ARTISTIQUES, SPORTIVES ET RÉCRÉATIVES (90 à 93) | B36: ='Annexe 1'!B31 -> 42.371794 | C36: ='Annexe 1'!C31 -> 96.328507 | D36: ='Annexe 1'!D31 -> 80.518525 | E36: ='Annexe 1'!E31 -> 105.66037 | F36: ='Annexe 1'!F31 -> 116.28557 | G36: ='Annexe 1'!G31 -> 78.730289 | H36: ='Annexe 1'!H31 -> 131.84508 | I36: ='Annexe 1'!I31 -> 163.76559 | ... AE36: ='Annexe 1'!AE31 -> 8.7050719 | AF36: =+SUMPRODUCT($B$34:$B$35,AF34:AF35)/(SUM($B$34:$B$35)) -> -1.4587658 | AG36: =+SUMPRODUCT($B$34:$B$35,AG34:AG35)/(SUM($B$34:$B$35)) -> -0.00037684256
A37: ENSEMBLE | B37: ='Annexe 2'!B13 -> 10000 | C37: ='Annexe 2'!C13 -> 75.405662 | D37: ='Annexe 2'!D13 -> 89.482827 | E37: ='Annexe 2'!E13 -> 100.16417 | F37: ='Annexe 2'!F13 -> 110.31513 | G37: ='Annexe 2'!G13 -> 87.21232 | H37: ='Annexe 2'!H13 -> 106.39805 | I37: ='Annexe 2'!I13 -> 110.13945 | ... AE37: ='Annexe 2'!AE13 -> 203.18905 | AF37: =((AE37/AA37)-1)*100 -> -10.776479 | AG37: =+$B37*AF37/10000 -> -10.776479

Sheet GRAPHIQUES
B2: T1 2018 | C2: T2 2018 | D2: T3 2018 | E2: T4 2018 | F2: T1 2019 | G2: T2 2019 | H2: T3 2019 | I2: T4 2019 | J2: T1 2020 | K2: T2 2020 | L2: T3 2020 | M2: T4 2020 | N2: T1 2021 | O2: T2 2021 | P2: T3 2021 | Q2: T4 2021 | R2: T1 2022 | S2: T2 2022 | T2: T3 2022 | U2: T4 2022 | V2: T1 2023 | W2: T2 2023 | X2: T3 2023 | Y2: T4 2023 | Z2: T1 2024 | AA2: T2 2024 | AB2: T3 2024 | AC2: T4 2024 | AD2: T1 2025
A3: TRANSPORT ET ENTREPOSAGE (49 à 53) | B3: ='Annexe 2'!C3 -> 46.216424 | C3: ='Annexe 2'!D3 -> 59.427913 | D3: ='Annexe 2'!E3 -> 57.475342 | E3: ='Annexe 2'!F3 -> 48.599558 | F3: ='Annexe 2'!G3 -> 41.361182 | G3: ='Annexe 2'!H3 -> 130.69051 | H3: ='Annexe 2'!I3 -> 105.47854 | I3: ='Annexe 2'!J3 -> 101.45801 | ... AD3: ='Annexe 2'!AE3 -> 64.227878
A4: HÉBERGEMENT ET RESTAURATION (55 &56) | B4: ='Annexe 2'!C4 -> 87.693807 | C4: ='Annexe 2'!D4 -> 95.017954 | D4: ='Annexe 2'!E4 -> 97.933768 | E4: ='Annexe 2'!F4 -> 105.77417 | F4: ='Annexe 2'!G4 -> 105.78939 | G4: ='Annexe 2'!H4 -> 103.6239 | H4: ='Annexe 2'!I4 -> 109.98445 | I4: ='Annexe 2'!J4 -> 131.89179 | ... AD4: ='Annexe 2'!AE4 -> 325.34428
A5: INFORMATION ET COMMUNICATION (58 à 63) | B5: ='Annexe 2'!C5 -> 93.693458 | C5: ='Annexe 2'!D5 -> 97.191735 | D5: ='Annexe 2'!E5 -> 109.52985 | E5: ='Annexe 2'!F5 -> 102.96801 | F5: ='Annexe 2'!G5 -> 111.97217 | G5: ='Annexe 2'!H5 -> 115.67387 | H5: ='Annexe 2'!I5 -> 119.00339 | I5: ='Annexe 2'!J5 -> 96.335884 | ... AD5: ='Annexe 2'!AE5 -> 271.54889
A6: FINANCE ET ASSURANCE (64 à 66) | B6: ='Annexe 2'!C6 -> 72.667249 | C6: ='Annexe 2'!D6 -> 92.301571 | D6: ='Annexe 2'!E6 -> 105.47128 | E6: ='Annexe 2'!F6 -> 127.38079 | F6: ='Annexe 2'!G6 -> 84.612101 | G6: ='Annexe 2'!H6 -> 96.509804 | H6: ='Annexe 2'!I6 -> 106.58759 | I6: ='Annexe 2'!J6 -> 104.86815 | ... AD6: ='Annexe 2'!AE6 -> 203.25379
A7: IMMOBILIER (68) | B7: ='Annexe 2'!C7 -> 87.36691 | C7: ='Annexe 2'!D7 -> 124.9629 | D7: ='Annexe 2'!E7 -> 124.43204 | E7: ='Annexe 2'!F7 -> 110.75683 | F7: ='Annexe 2'!G7 -> 200.20656 | G7: ='Annexe 2'!H7 -> 119.42295 | H7: ='Annexe 2'!I7 -> 115.00353 | I7: ='Annexe 2'!J7 -> 133.11847 | ... AD7: ='Annexe 2'!AE7 -> 267.78786
A8: ACTIVITÉS SPÉCIALISÉES, SCIENTIFIQUES ET TECHNIQUES (69 à 75) | B8: ='Annexe 2'!C8 -> 55.594906 | C8: ='Annexe 2'!D8 -> 85.089812 | D8: ='Annexe 2'!E8 -> 91.341608 | E8: ='Annexe 2'!F8 -> 246.25066 | F8: ='Annexe 2'!G8 -> 83.533492 | G8: ='Annexe 2'!H8 -> 104.6779 | H8: ='Annexe 2'!I8 -> 139.77162 | I8: ='Annexe 2'!J8 -> 33.164208 | ... AD8: ='Annexe 2'!AE8 -> 200.61657
A9: ACTIVITÉS DES SERVICES DE SOUTIEN ET DE BUREAU (77 à 82) | B9: ='Annexe 2'!C9 -> 92.303619 | C9: ='Annexe 2'!D9 -> 100.41866 | D9: ='Annexe 2'!E9 -> 102.96748 | E9: ='Annexe 2'!F9 -> 104.31024 | F9: ='Annexe 2'!G9 -> 111.82321 | G9: ='Annexe 2'!H9 -> 92.920999 | H9: ='Annexe 2'!I9 -> 105.09524 | I9: ='Annexe 2'!J9 -> 104.27085 | ... AD9: ='Annexe 2'!AE9 -> 145.63681
A10: ENSEIGNEMENT (85) | B10: ='Annexe 2'!C10 -> 0 | C10: ='Annexe 2'!D10 -> 0 | D10: ='Annexe 2'!E10 -> 159.67162 | E10: ='Annexe 2'!F10 -> 240.32838 | F10: ='Annexe 2'!G10 -> 250.5832 | G10: ='Annexe 2'!H10 -> 2063.2059 | H10: ='Annexe 2'!I10 -> 685.89371 | I10: ='Annexe 2'!J10 -> 2337.0249 | ... AD10: ='Annexe 2'!AE10 -> 1003.9153
A11: ACTIVITÉS POUR LA SANTÉ HUMAINE ET L’ACTION SOCIALE (86 à 88) | B11: ='Annexe 2'!C11 -> 84.008199 | C11: ='Annexe 2'!D11 -> 86.047122 | D11: ='Annexe 2'!E11 -> 136.21687 | E11: ='Annexe 2'!F11 -> 93.72781 | F11: ='Annexe 2'!G11 -> 33.895276 | G11: ='Annexe 2'!H11 -> 40.85423 | H11: ='Annexe 2'!I11 -> 39.182294 | I11: ='Annexe 2'!J11 -> 28.240397 | ... AD11: ='Annexe 2'!AE11 -> 43.015139
A12: ACTIVITÉS ARTISTIQUES, SPORTIVES ET RÉCRÉATIVES (90 à 93) | B12: ='Annexe 2'!C12 -> 96.328507 | C12: ='Annexe 2'!D12 -> 80.518525 | D12: ='Annexe 2'!E12 -> 105.66037 | E12: ='Annexe 2'!F12 -> 116.28557 | F12: ='Annexe 2'!G12 -> 78.730289 | G12: ='Annexe 2'!H12 -> 131.84508 | H12: ='Annexe 2'!I12 -> 163.76559 | I12: ='Annexe 2'!J12 -> 157.74551 | ... AD12: ='Annexe 2'!AE12 -> 8.7050719
A13: ENSEMBLE | B13: ='Annexe 2'!C13 -> 75.405662 | C13: ='Annexe 2'!D13 -> 89.482827 | D13: ='Annexe 2'!E13 -> 100.16417 | E13: ='Annexe 2'!F13 -> 110.31513 | F13: ='Annexe 2'!G13 -> 87.21232 | G13: ='Annexe 2'!H13 -> 106.39805 | H13: ='Annexe 2'!I13 -> 110.13945 | I13: ='Annexe 2'!J13 -> 102.61864 | ... AD13: ='Annexe 2'!AE13 -> 203.18905
A18: ENSEMBLE | B18: T1 2018 | C18: T2 2018 | D18: T3 2018 | E18: T4 2018 | F18: T1 2019 | G18: T2 2019 | H18: T3 2019 | I18: T4 2019 | J18: T1 2020 | K18: T2 2020 | L18: T3 2020 | M18: T4 2020 | N18: T1 2021 | O18: T2 2021 | P18: T3 2021 | Q18: T4 2021 | R18: T1 2022 | S18: T2 2022 | T18: T3 2022 | U18: T4 2022 | V18: T1 2023 | W18: T2 2023 | X18: T3 2023 | Y18: T4 2023 | Z18: T1 2024 | AA18: T2 2024 | AB18: T3 2024 | AC18: T4 2024 | AD18: T1 2025
B19: =B13 -> 75.405662 | C19: =C13 -> 89.482827 | D19: =D13 -> 100.16417 | E19: =E13 -> 110.31513 | F19: =F13 -> 87.21232 | G19: =G13 -> 106.39805 | H19: =H13 -> 110.13945 | I19: =I13 -> 102.61864 | ... AD19: =AD13 -> 203.18905
A39: TRANSPORT ET ENTREPOSAGE (49 à 53) | B39: T1 2018 | C39: T2 2018 | D39: T3 2018 | E39: T4 2018 | F39: T1 2019 | G39: T2 2019 | H39: T3 2019 | I39: T4 2019 | J39: T1 2020 | K39: T2 2020 | L39: T3 2020 | M39: T4 2020 | N39: T1 2021 | O39: T2 2021 | P39: T3 2021 | Q39: T4 2021 | R39: T1 2022 | S39: T2 2022 | T39: T3 2022 | U39: T4 2022 | V39: T1 2023 | W39: T2 2023 | X39: T3 2023 | Y39: T4 2023 | Z39: T1 2024 | AA39: T2 2024 | AB39: T3 2024 | AC39: T4 2024 | AD39: T1 2025
B40: =B3 -> 46.216424 | C40: =C3 -> 59.427913 | D40: =D3 -> 57.475342 | E40: =E3 -> 48.599558 | F40: =F3 -> 41.361182 | G40: =G3 -> 130.69051 | H40: =H3 -> 105.47854 | I40: =I3 -> 101.45801 | ... AD40: =AD3 -> 64.227878
A57: HÉBERGEMENT ET RESTAURATION (55 &56) | B57: T1 2018 | C57: T2 2018 | D57: T3 2018 | E57: T4 2018 | F57: T1 2019 | G57: T2 2019 | H57: T3 2019 | I57: T4 2019 | J57: T1 2020 | K57: T2 2020 | L57: T3 2020 | M57: T4 2020 | N57: T1 2021 | O57: T2 2021 | P57: T3 2021 | Q57: T4 2021 | R57: T1 2022 | S57: T2 2022 | T57: T3 2022 | U57: T4 2022 | V57: T1 2023 | W57: T2 2023 | X57: T3 2023 | Y57: T4 2023 | Z57: T1 2024 | AA57: T2 2024 | AB57: T3 2024 | AC57: T4 2024 | AD57: T1 2025
B58: =B4 -> 87.693807 | C58: =C4 -> 95.017954 | D58: =D4 -> 97.933768 | E58: =E4 -> 105.77417 | F58: =F4 -> 105.78939 | G58: =G4 -> 103.6239 | H58: =H4 -> 109.98445 | I58: =I4 -> 131.89179 | ... AD58: =AD4 -> 325.34428
A75: INFORMATION ET COMMUNICATION (58 à 63) | B75: T1 2018 | C75: T2 2018 | D75: T3 2018 | E75: T4 2018 | F75: T1 2019 | G75: T2 2019 | H75: T3 2019 | I75: T4 2019 | J75: T1 2020 | K75: T2 2020 | L75: T3 2020 | M75: T4 2020 | N75: T1 2021 | O75: T2 2021 | P75: T3 2021 | Q75: T4 2021 | R75: T1 2022 | S75: T2 2022 | T75: T3 2022 | U75: T4 2022 | V75: T1 2023 | W75: T2 2023 | X75: T3 2023 | Y75: T4 2023 | Z75: T1 2024 | AA75: T2 2024 | AB75: T3 2024 | AC75: T4 2024 | AD75: T1 2025
B76: =B5 -> 93.693458 | C76: =C5 -> 97.191735 | D76: =D5 -> 109.52985 | E76: =E5 -> 102.96801 | F76: =F5 -> 111.97217 | G76: =G5 -> 115.67387 | H76: =H5 -> 119.00339 | I76: =I5 -> 96.335884 | ... AD76: =AD5 -> 271.54889
A92: FINANCE ET ASSURANCE (64 à 66) | B92: T1 2018 | C92: T2 2018 | D92: T3 2018 | E92: T4 2018 | F92: T1 2019 | G92: T2 2019 | H92: T3 2019 | I92: T4 2019 | J92: T1 2020 | K92: T2 2020 | L92: T3 2020 | M92: T4 2020 | N92: T1 2021 | O92: T2 2021 | P92: T3 2021 | Q92: T4 2021 | R92: T1 2022 | S92: T2 2022 | T92: T3 2022 | U92: T4 2022 | V92: T1 2023 | W92: T2 2023 | X92: T3 2023 | Y92: T4 2023 | Z92: T1 2024 | AA92: T2 2024 | AB92: T3 2024 | AC92: T4 2024 | AD92: T1 2025
B93: =B9 -> 92.303619 | C93: =C9 -> 100.41866 | D93: =D9 -> 102.96748 | E93: =E9 -> 104.31024 | F93: =F9 -> 111.82321 | G93: =G9 -> 92.920999 | H93: =H9 -> 105.09524 | I93: =I9 -> 104.27085 | ... X93: =X9 -> 117.43685 | Y93: =Y6 -> 236.48326 | Z93: =Z6 -> 236.74108 | AA93: =AA6 -> 316.51861 | AB93: =AB6 -> 288.55345 | AC93: =AC6 -> 350.07753 | AD93: =AD6 -> 203.25379
A110: IMMOBILIER (68) | B110: T1 2018 | C110: T2 2018 | D110: T3 2018 | E110: T4 2018 | F110: T1 2019 | G110: T2 2019 | H110: T3 2019 | I110: T4 2019 | J110: T1 2020 | K110: T2 2020 | L110: T3 2020 | M110: T4 2020 | N110: T1 2021 | O110: T2 2021 | P110: T3 2021 | Q110: T4 2021 | R110: T1 2022 | S110: T2 2022 | T110: T3 2022 | U110: T4 2022 | V110: T1 2023 | W110: T2 2023 | X110: T3 2023 | Y110: T4 2023 | Z110: T1 2024 | AA110: T2 2024 | AB110: T3 2024 | AC110: T4 2024 | AD110: T1 2025
B111: =B7 -> 87.36691 | C111: =C7 -> 124.9629 | D111: =D7 -> 124.43204 | E111: =E7 -> 110.75683 | F111: =F7 -> 200.20656 | G111: =G7 -> 119.42295 | H111: =H7 -> 115.00353 | I111: =I7 -> 133.11847 | ... AD111: =AD7 -> 267.78786
A127: ACTIVITÉS SPÉCIALISÉES, SCIENTIFIQUES ET TECHNIQUES (69 à 75) | B127: T1 2018 | C127: T2 2018 | D127: T3 2018 | E127: T4 2018 | F127: T1 2019 | G127: T2 2019 | H127: T3 2019 | I127: T4 2019 | J127: T1 2020 | K127: T2 2020 | L127: T3 2020 | M127: T4 2020 | N127: T1 2021 | O127: T2 2021 | P127: T3 2021 | Q127: T4 2021 | R127: T1 2022 | S127: T2 2022 | T127: T3 2022 | U127: T4 2022 | V127: T1 2023 | W127: T2 2023 | X127: T3 2023 | Y127: T4 2023 | Z127: T1 2024 | AA127: T2 2024 | AB127: T3 2024 | AC127: T4 2024 | AD127: T1 2025
B128: =B8 -> 55.594906 | C128: =C8 -> 85.089812 | D128: =D8 -> 91.341608 | E128: =E8 -> 246.25066 | F128: =F8 -> 83.533492 | G128: =G8 -> 104.6779 | H128: =H8 -> 139.77162 | I128: =I8 -> 33.164208 | ... AD128: =AD8 -> 200.61657
A145: ACTIVITÉS DES SERVICES DE SOUTIEN ET DE BUREAU (77 à 82) | B145: T1 2018 | C145: T2 2018 | D145: T3 2018 | E145: T4 2018 | F145: T1 2019 | G145: T2 2019 | H145: T3 2019 | I145: T4 2019 | J145: T1 2020 | K145: T2 2020 | L145: T3 2020 | M145: T4 2020 | N145: T1 2021 | O145: T2 2021 | P145: T3 2021 | Q145: T4 2021 | R145: T1 2022 | S145: T2 2022 | T145: T3 2022 | U145: T4 2022 | V145: T1 2023 | W145: T2 2023 | X145: T3 2023 | Y145: T4 2023 | Z145: T1 2024 | AA145: T2 2024 | AB145: T3 2024 | AC145: T4 2024 | AD145: T1 2025
B146: =B9 -> 92.303619 | C146: =C9 -> 100.41866 | D146: =D9 -> 102.96748 | E146: =E9 -> 104.31024 | F146: =F9 -> 111.82321 | G146: =G9 -> 92.920999 | H146: =H9 -> 105.09524 | I146: =I9 -> 104.27085 | ... AD146: =AD9 -> 145.63681
A166: ENSEIGNEMENT (85) | B166: T1 2018 | C166: T2 2018 | D166: T3 2018 | E166: T4 2018 | F166: T1 2019 | G166: T2 2019 | H166: T3 2019 | I166: T4 2019 | J166: T1 2020 | K166: T2 2020 | L166: T3 2020 | M166: T4 2020 | N166: T1 2021 | O166: T2 2021 | P166: T3 2021 | Q166: T4 2021 | R166: T1 2022 | S166: T2 2022 | T166: T3 2022 | U166: T4 2022 | V166: T1 2023 | W166: T2 2023 | X166: T3 2023 | Y166: T4 2023 | Z166: T1 2024 | AA166: T2 2024 | AB166: T3 2024 | AC166: T4 2024 | AD166: T1 2025
B167: =B10 -> 0 | C167: =C10 -> 0 | D167: =D10 -> 159.67162 | E167: =E10 -> 240.32838 | F167: =F10 -> 250.5832 | G167: =G10 -> 2063.2059 | H167: =H10 -> 685.89371 | I167: =I10 -> 2337.0249 | ... AD167: =AD10 -> 1003.9153
A185: ACTIVITÉS POUR LA SANTÉ HUMAINE ET L’ACTION SOCIALE (86 à 88) | B185: T1 2018 | C185: T2 2018 | D185: T3 2018 | E185: T4 2018 | F185: T1 2019 | G185: T2 2019 | H185: T3 2019 | I185: T4 2019 | J185: T1 2020 | K185: T2 2020 | L185: T3 2020 | M185: T4 2020 | N185: T1 2021 | O185: T2 2021 | P185: T3 2021 | Q185: T4 2021 | R185: T1 2022 | S185: T2 2022 | T185: T3 2022 | U185: T4 2022 | V185: T1 2023 | W185: T2 2023 | X185: T3 2023 | Y185: T4 2023 | Z185: T1 2024 | AA185: T2 2024 | AB185: T3 2024 | AC185: T4 2024 | AD185: T1 2025
B186: =B11 -> 84.008199 | C186: =C11 -> 86.047122 | D186: =D11 -> 136.21687 | E186: =E11 -> 93.72781 | F186: =F11 -> 33.895276 | G186: =G11 -> 40.85423 | H186: =H11 -> 39.182294 | I186: =I11 -> 28.240397 | ... AD186: =AD11 -> 43.015139
A205: ACTIVITÉS ARTISTIQUES, SPORTIVES ET RÉCRÉATIVES (90 à 93) | B205: T1 2018 | C205: T2 2018 | D205: T3 2018 | E205: T4 2018 | F205: T1 2019 | G205: T2 2019 | H205: T3 2019 | I205: T4 2019 | J205: T1 2020 | K205: T2 2020 | L205: T3 2020 | M205: T4 2020 | N205: T1 2021 | O205: T2 2021 | P205: T3 2021 | Q205: T4 2021 | R205: T1 2022 | S205: T2 2022 | T205: T3 2022 | U205: T4 2022 | V205: T1 2023 | W205: T2 2023 | X205: T3 2023 | Y205: T4 2023 | Z205: T1 2024 | AA205: T2 2024 | AB205: T3 2024 | AC205: T4 2024 | AD205: T1 2025
B206: =B12 -> 96.328507 | C206: =C12 -> 80.518525 | D206: =D12 -> 105.66037 | E206: =E12 -> 116.28557 | F206: =F12 -> 78.730289 | G206: =G12 -> 131.84508 | H206: =H12 -> 163.76559 | I206: =I12 -> 157.74551 | ... AD206: =AD12 -> 8.7050719

Sheet Feuil5

Sheet Feuil3

Sheet Feuil4
